BEGIN:VCALENDAR
VERSION:2.0
PRODID:-//Blue Zones Health - ECPv6.15.20//NONSGML v1.0//EN
CALSCALE:GREGORIAN
METHOD:PUBLISH
X-WR-CALNAME:Blue Zones Health
X-ORIGINAL-URL:https://bluezoneshealth.com
X-WR-CALDESC:Events for Blue Zones Health
REFRESH-INTERVAL;VALUE=DURATION:PT1H
X-Robots-Tag:noindex
X-PUBLISHED-TTL:PT1H
BEGIN:VTIMEZONE
TZID:America/Los_Angeles
BEGIN:DAYLIGHT
TZOFFSETFROM:-0800
TZOFFSETTO:-0700
TZNAME:PDT
DTSTART:20250309T100000
END:DAYLIGHT
BEGIN:STANDARD
TZOFFSETFROM:-0700
TZOFFSETTO:-0800
TZNAME:PST
DTSTART:20251102T090000
END:STANDARD
BEGIN:DAYLIGHT
TZOFFSETFROM:-0800
TZOFFSETTO:-0700
TZNAME:PDT
DTSTART:20260308T100000
END:DAYLIGHT
BEGIN:STANDARD
TZOFFSETFROM:-0700
TZOFFSETTO:-0800
TZNAME:PST
DTSTART:20261101T090000
END:STANDARD
BEGIN:DAYLIGHT
TZOFFSETFROM:-0800
TZOFFSETTO:-0700
TZNAME:PDT
DTSTART:20270314T100000
END:DAYLIGHT
BEGIN:STANDARD
TZOFFSETFROM:-0700
TZOFFSETTO:-0800
TZNAME:PST
DTSTART:20271107T090000
END:STANDARD
END:VTIMEZONE
BEGIN:VEVENT
DTSTART;TZID=America/Los_Angeles:20260422T100000
DTEND;TZID=America/Los_Angeles:20260422T150000
DTSTAMP:20260421T153223
CREATED:20251114T231714Z
LAST-MODIFIED:20251202T203651Z
UID:10007190-1776852000-1776870000@bluezoneshealth.com
SUMMARY:San Diego Deaf Seniors Club
DESCRIPTION:Seniors who are deaf or adults of deaf parents are invited to join this social group! American Sign Language is primarily used. Text 619-851-0850 or video call 619-259-5046 for more information
URL:https://bluezoneshealth.com/event/san-diego-deaf-seniors-club/2026-04-22/
LOCATION:Park De la Cruz Community Center\, 3901 Landis Street\, San Diego\, CA\, 92105\, United States
CATEGORIES:Community Prescriptions
END:VEVENT
BEGIN:VEVENT
DTSTART;TZID=America/Los_Angeles:20260429T100000
DTEND;TZID=America/Los_Angeles:20260429T150000
DTSTAMP:20260421T153223
CREATED:20251114T231714Z
LAST-MODIFIED:20251202T203651Z
UID:10007191-1777456800-1777474800@bluezoneshealth.com
SUMMARY:San Diego Deaf Seniors Club
DESCRIPTION:Seniors who are deaf or adults of deaf parents are invited to join this social group! American Sign Language is primarily used. Text 619-851-0850 or video call 619-259-5046 for more information
URL:https://bluezoneshealth.com/event/san-diego-deaf-seniors-club/2026-04-29/
LOCATION:Park De la Cruz Community Center\, 3901 Landis Street\, San Diego\, CA\, 92105\, United States
CATEGORIES:Community Prescriptions
END:VEVENT
BEGIN:VEVENT
DTSTART;TZID=America/Los_Angeles:20260506T100000
DTEND;TZID=America/Los_Angeles:20260506T150000
DTSTAMP:20260421T153223
CREATED:20251114T231714Z
LAST-MODIFIED:20251202T203651Z
UID:10007192-1778061600-1778079600@bluezoneshealth.com
SUMMARY:San Diego Deaf Seniors Club
DESCRIPTION:Seniors who are deaf or adults of deaf parents are invited to join this social group! American Sign Language is primarily used. Text 619-851-0850 or video call 619-259-5046 for more information
URL:https://bluezoneshealth.com/event/san-diego-deaf-seniors-club/2026-05-06/
LOCATION:Park De la Cruz Community Center\, 3901 Landis Street\, San Diego\, CA\, 92105\, United States
CATEGORIES:Community Prescriptions
END:VEVENT
BEGIN:VEVENT
DTSTART;TZID=America/Los_Angeles:20260513T100000
DTEND;TZID=America/Los_Angeles:20260513T150000
DTSTAMP:20260421T153223
CREATED:20251114T231714Z
LAST-MODIFIED:20251202T203651Z
UID:10007193-1778666400-1778684400@bluezoneshealth.com
SUMMARY:San Diego Deaf Seniors Club
DESCRIPTION:Seniors who are deaf or adults of deaf parents are invited to join this social group! American Sign Language is primarily used. Text 619-851-0850 or video call 619-259-5046 for more information
URL:https://bluezoneshealth.com/event/san-diego-deaf-seniors-club/2026-05-13/
LOCATION:Park De la Cruz Community Center\, 3901 Landis Street\, San Diego\, CA\, 92105\, United States
CATEGORIES:Community Prescriptions
END:VEVENT
BEGIN:VEVENT
DTSTART;TZID=America/Los_Angeles:20260520T100000
DTEND;TZID=America/Los_Angeles:20260520T150000
DTSTAMP:20260421T153223
CREATED:20251114T231714Z
LAST-MODIFIED:20251202T203651Z
UID:10007194-1779271200-1779289200@bluezoneshealth.com
SUMMARY:San Diego Deaf Seniors Club
DESCRIPTION:Seniors who are deaf or adults of deaf parents are invited to join this social group! American Sign Language is primarily used. Text 619-851-0850 or video call 619-259-5046 for more information
URL:https://bluezoneshealth.com/event/san-diego-deaf-seniors-club/2026-05-20/
LOCATION:Park De la Cruz Community Center\, 3901 Landis Street\, San Diego\, CA\, 92105\, United States
CATEGORIES:Community Prescriptions
END:VEVENT
BEGIN:VEVENT
DTSTART;TZID=America/Los_Angeles:20260527T100000
DTEND;TZID=America/Los_Angeles:20260527T150000
DTSTAMP:20260421T153223
CREATED:20251114T231714Z
LAST-MODIFIED:20251202T203651Z
UID:10007195-1779876000-1779894000@bluezoneshealth.com
SUMMARY:San Diego Deaf Seniors Club
DESCRIPTION:Seniors who are deaf or adults of deaf parents are invited to join this social group! American Sign Language is primarily used. Text 619-851-0850 or video call 619-259-5046 for more information
URL:https://bluezoneshealth.com/event/san-diego-deaf-seniors-club/2026-05-27/
LOCATION:Park De la Cruz Community Center\, 3901 Landis Street\, San Diego\, CA\, 92105\, United States
CATEGORIES:Community Prescriptions
END:VEVENT
BEGIN:VEVENT
DTSTART;TZID=America/Los_Angeles:20260603T100000
DTEND;TZID=America/Los_Angeles:20260603T150000
DTSTAMP:20260421T153223
CREATED:20251114T231714Z
LAST-MODIFIED:20251202T203651Z
UID:10007196-1780480800-1780498800@bluezoneshealth.com
SUMMARY:San Diego Deaf Seniors Club
DESCRIPTION:Seniors who are deaf or adults of deaf parents are invited to join this social group! American Sign Language is primarily used. Text 619-851-0850 or video call 619-259-5046 for more information
URL:https://bluezoneshealth.com/event/san-diego-deaf-seniors-club/2026-06-03/
LOCATION:Park De la Cruz Community Center\, 3901 Landis Street\, San Diego\, CA\, 92105\, United States
CATEGORIES:Community Prescriptions
END:VEVENT
BEGIN:VEVENT
DTSTART;TZID=America/Los_Angeles:20260610T100000
DTEND;TZID=America/Los_Angeles:20260610T150000
DTSTAMP:20260421T153223
CREATED:20251114T231714Z
LAST-MODIFIED:20251202T203651Z
UID:10007197-1781085600-1781103600@bluezoneshealth.com
SUMMARY:San Diego Deaf Seniors Club
DESCRIPTION:Seniors who are deaf or adults of deaf parents are invited to join this social group! American Sign Language is primarily used. Text 619-851-0850 or video call 619-259-5046 for more information
URL:https://bluezoneshealth.com/event/san-diego-deaf-seniors-club/2026-06-10/
LOCATION:Park De la Cruz Community Center\, 3901 Landis Street\, San Diego\, CA\, 92105\, United States
CATEGORIES:Community Prescriptions
END:VEVENT
BEGIN:VEVENT
DTSTART;TZID=America/Los_Angeles:20260617T100000
DTEND;TZID=America/Los_Angeles:20260617T150000
DTSTAMP:20260421T153223
CREATED:20251114T231714Z
LAST-MODIFIED:20251202T203651Z
UID:10007198-1781690400-1781708400@bluezoneshealth.com
SUMMARY:San Diego Deaf Seniors Club
DESCRIPTION:Seniors who are deaf or adults of deaf parents are invited to join this social group! American Sign Language is primarily used. Text 619-851-0850 or video call 619-259-5046 for more information
URL:https://bluezoneshealth.com/event/san-diego-deaf-seniors-club/2026-06-17/
LOCATION:Park De la Cruz Community Center\, 3901 Landis Street\, San Diego\, CA\, 92105\, United States
CATEGORIES:Community Prescriptions
END:VEVENT
BEGIN:VEVENT
DTSTART;TZID=America/Los_Angeles:20260624T100000
DTEND;TZID=America/Los_Angeles:20260624T150000
DTSTAMP:20260421T153223
CREATED:20251114T231714Z
LAST-MODIFIED:20251202T203651Z
UID:10007199-1782295200-1782313200@bluezoneshealth.com
SUMMARY:San Diego Deaf Seniors Club
DESCRIPTION:Seniors who are deaf or adults of deaf parents are invited to join this social group! American Sign Language is primarily used. Text 619-851-0850 or video call 619-259-5046 for more information
URL:https://bluezoneshealth.com/event/san-diego-deaf-seniors-club/2026-06-24/
LOCATION:Park De la Cruz Community Center\, 3901 Landis Street\, San Diego\, CA\, 92105\, United States
CATEGORIES:Community Prescriptions
END:VEVENT
BEGIN:VEVENT
DTSTART;TZID=America/Los_Angeles:20260701T100000
DTEND;TZID=America/Los_Angeles:20260701T150000
DTSTAMP:20260421T153223
CREATED:20251114T231714Z
LAST-MODIFIED:20251202T203651Z
UID:10007200-1782900000-1782918000@bluezoneshealth.com
SUMMARY:San Diego Deaf Seniors Club
DESCRIPTION:Seniors who are deaf or adults of deaf parents are invited to join this social group! American Sign Language is primarily used. Text 619-851-0850 or video call 619-259-5046 for more information
URL:https://bluezoneshealth.com/event/san-diego-deaf-seniors-club/2026-07-01/
LOCATION:Park De la Cruz Community Center\, 3901 Landis Street\, San Diego\, CA\, 92105\, United States
CATEGORIES:Community Prescriptions
END:VEVENT
BEGIN:VEVENT
DTSTART;TZID=America/Los_Angeles:20260708T100000
DTEND;TZID=America/Los_Angeles:20260708T150000
DTSTAMP:20260421T153223
CREATED:20251114T231714Z
LAST-MODIFIED:20251202T203651Z
UID:10007201-1783504800-1783522800@bluezoneshealth.com
SUMMARY:San Diego Deaf Seniors Club
DESCRIPTION:Seniors who are deaf or adults of deaf parents are invited to join this social group! American Sign Language is primarily used. Text 619-851-0850 or video call 619-259-5046 for more information
URL:https://bluezoneshealth.com/event/san-diego-deaf-seniors-club/2026-07-08/
LOCATION:Park De la Cruz Community Center\, 3901 Landis Street\, San Diego\, CA\, 92105\, United States
CATEGORIES:Community Prescriptions
END:VEVENT
BEGIN:VEVENT
DTSTART;TZID=America/Los_Angeles:20260715T100000
DTEND;TZID=America/Los_Angeles:20260715T150000
DTSTAMP:20260421T153223
CREATED:20251114T231714Z
LAST-MODIFIED:20251202T203651Z
UID:10007202-1784109600-1784127600@bluezoneshealth.com
SUMMARY:San Diego Deaf Seniors Club
DESCRIPTION:Seniors who are deaf or adults of deaf parents are invited to join this social group! American Sign Language is primarily used. Text 619-851-0850 or video call 619-259-5046 for more information
URL:https://bluezoneshealth.com/event/san-diego-deaf-seniors-club/2026-07-15/
LOCATION:Park De la Cruz Community Center\, 3901 Landis Street\, San Diego\, CA\, 92105\, United States
CATEGORIES:Community Prescriptions
END:VEVENT
BEGIN:VEVENT
DTSTART;TZID=America/Los_Angeles:20260722T100000
DTEND;TZID=America/Los_Angeles:20260722T150000
DTSTAMP:20260421T153223
CREATED:20251114T231714Z
LAST-MODIFIED:20251202T203651Z
UID:10007203-1784714400-1784732400@bluezoneshealth.com
SUMMARY:San Diego Deaf Seniors Club
DESCRIPTION:Seniors who are deaf or adults of deaf parents are invited to join this social group! American Sign Language is primarily used. Text 619-851-0850 or video call 619-259-5046 for more information
URL:https://bluezoneshealth.com/event/san-diego-deaf-seniors-club/2026-07-22/
LOCATION:Park De la Cruz Community Center\, 3901 Landis Street\, San Diego\, CA\, 92105\, United States
CATEGORIES:Community Prescriptions
END:VEVENT
BEGIN:VEVENT
DTSTART;TZID=America/Los_Angeles:20260729T100000
DTEND;TZID=America/Los_Angeles:20260729T150000
DTSTAMP:20260421T153223
CREATED:20251114T231714Z
LAST-MODIFIED:20251202T203651Z
UID:10007204-1785319200-1785337200@bluezoneshealth.com
SUMMARY:San Diego Deaf Seniors Club
DESCRIPTION:Seniors who are deaf or adults of deaf parents are invited to join this social group! American Sign Language is primarily used. Text 619-851-0850 or video call 619-259-5046 for more information
URL:https://bluezoneshealth.com/event/san-diego-deaf-seniors-club/2026-07-29/
LOCATION:Park De la Cruz Community Center\, 3901 Landis Street\, San Diego\, CA\, 92105\, United States
CATEGORIES:Community Prescriptions
END:VEVENT
BEGIN:VEVENT
DTSTART;TZID=America/Los_Angeles:20260805T100000
DTEND;TZID=America/Los_Angeles:20260805T150000
DTSTAMP:20260421T153223
CREATED:20251114T231714Z
LAST-MODIFIED:20251202T203651Z
UID:10007205-1785924000-1785942000@bluezoneshealth.com
SUMMARY:San Diego Deaf Seniors Club
DESCRIPTION:Seniors who are deaf or adults of deaf parents are invited to join this social group! American Sign Language is primarily used. Text 619-851-0850 or video call 619-259-5046 for more information
URL:https://bluezoneshealth.com/event/san-diego-deaf-seniors-club/2026-08-05/
LOCATION:Park De la Cruz Community Center\, 3901 Landis Street\, San Diego\, CA\, 92105\, United States
CATEGORIES:Community Prescriptions
END:VEVENT
BEGIN:VEVENT
DTSTART;TZID=America/Los_Angeles:20260812T100000
DTEND;TZID=America/Los_Angeles:20260812T150000
DTSTAMP:20260421T153223
CREATED:20251114T231714Z
LAST-MODIFIED:20251202T203651Z
UID:10007206-1786528800-1786546800@bluezoneshealth.com
SUMMARY:San Diego Deaf Seniors Club
DESCRIPTION:Seniors who are deaf or adults of deaf parents are invited to join this social group! American Sign Language is primarily used. Text 619-851-0850 or video call 619-259-5046 for more information
URL:https://bluezoneshealth.com/event/san-diego-deaf-seniors-club/2026-08-12/
LOCATION:Park De la Cruz Community Center\, 3901 Landis Street\, San Diego\, CA\, 92105\, United States
CATEGORIES:Community Prescriptions
END:VEVENT
BEGIN:VEVENT
DTSTART;TZID=America/Los_Angeles:20260819T100000
DTEND;TZID=America/Los_Angeles:20260819T150000
DTSTAMP:20260421T153223
CREATED:20251114T231714Z
LAST-MODIFIED:20251202T203651Z
UID:10007207-1787133600-1787151600@bluezoneshealth.com
SUMMARY:San Diego Deaf Seniors Club
DESCRIPTION:Seniors who are deaf or adults of deaf parents are invited to join this social group! American Sign Language is primarily used. Text 619-851-0850 or video call 619-259-5046 for more information
URL:https://bluezoneshealth.com/event/san-diego-deaf-seniors-club/2026-08-19/
LOCATION:Park De la Cruz Community Center\, 3901 Landis Street\, San Diego\, CA\, 92105\, United States
CATEGORIES:Community Prescriptions
END:VEVENT
BEGIN:VEVENT
DTSTART;TZID=America/Los_Angeles:20260826T100000
DTEND;TZID=America/Los_Angeles:20260826T150000
DTSTAMP:20260421T153223
CREATED:20251114T231714Z
LAST-MODIFIED:20251202T203651Z
UID:10007208-1787738400-1787756400@bluezoneshealth.com
SUMMARY:San Diego Deaf Seniors Club
DESCRIPTION:Seniors who are deaf or adults of deaf parents are invited to join this social group! American Sign Language is primarily used. Text 619-851-0850 or video call 619-259-5046 for more information
URL:https://bluezoneshealth.com/event/san-diego-deaf-seniors-club/2026-08-26/
LOCATION:Park De la Cruz Community Center\, 3901 Landis Street\, San Diego\, CA\, 92105\, United States
CATEGORIES:Community Prescriptions
END:VEVENT
BEGIN:VEVENT
DTSTART;TZID=America/Los_Angeles:20260902T100000
DTEND;TZID=America/Los_Angeles:20260902T150000
DTSTAMP:20260421T153223
CREATED:20251114T231714Z
LAST-MODIFIED:20251202T203651Z
UID:10007209-1788343200-1788361200@bluezoneshealth.com
SUMMARY:San Diego Deaf Seniors Club
DESCRIPTION:Seniors who are deaf or adults of deaf parents are invited to join this social group! American Sign Language is primarily used. Text 619-851-0850 or video call 619-259-5046 for more information
URL:https://bluezoneshealth.com/event/san-diego-deaf-seniors-club/2026-09-02/
LOCATION:Park De la Cruz Community Center\, 3901 Landis Street\, San Diego\, CA\, 92105\, United States
CATEGORIES:Community Prescriptions
END:VEVENT
BEGIN:VEVENT
DTSTART;TZID=America/Los_Angeles:20260909T100000
DTEND;TZID=America/Los_Angeles:20260909T150000
DTSTAMP:20260421T153223
CREATED:20251114T231714Z
LAST-MODIFIED:20251202T203651Z
UID:10007210-1788948000-1788966000@bluezoneshealth.com
SUMMARY:San Diego Deaf Seniors Club
DESCRIPTION:Seniors who are deaf or adults of deaf parents are invited to join this social group! American Sign Language is primarily used. Text 619-851-0850 or video call 619-259-5046 for more information
URL:https://bluezoneshealth.com/event/san-diego-deaf-seniors-club/2026-09-09/
LOCATION:Park De la Cruz Community Center\, 3901 Landis Street\, San Diego\, CA\, 92105\, United States
CATEGORIES:Community Prescriptions
END:VEVENT
BEGIN:VEVENT
DTSTART;TZID=America/Los_Angeles:20260916T100000
DTEND;TZID=America/Los_Angeles:20260916T150000
DTSTAMP:20260421T153223
CREATED:20251114T231714Z
LAST-MODIFIED:20251202T203651Z
UID:10007211-1789552800-1789570800@bluezoneshealth.com
SUMMARY:San Diego Deaf Seniors Club
DESCRIPTION:Seniors who are deaf or adults of deaf parents are invited to join this social group! American Sign Language is primarily used. Text 619-851-0850 or video call 619-259-5046 for more information
URL:https://bluezoneshealth.com/event/san-diego-deaf-seniors-club/2026-09-16/
LOCATION:Park De la Cruz Community Center\, 3901 Landis Street\, San Diego\, CA\, 92105\, United States
CATEGORIES:Community Prescriptions
END:VEVENT
BEGIN:VEVENT
DTSTART;TZID=America/Los_Angeles:20260923T100000
DTEND;TZID=America/Los_Angeles:20260923T150000
DTSTAMP:20260421T153223
CREATED:20251114T231714Z
LAST-MODIFIED:20251202T203651Z
UID:10007212-1790157600-1790175600@bluezoneshealth.com
SUMMARY:San Diego Deaf Seniors Club
DESCRIPTION:Seniors who are deaf or adults of deaf parents are invited to join this social group! American Sign Language is primarily used. Text 619-851-0850 or video call 619-259-5046 for more information
URL:https://bluezoneshealth.com/event/san-diego-deaf-seniors-club/2026-09-23/
LOCATION:Park De la Cruz Community Center\, 3901 Landis Street\, San Diego\, CA\, 92105\, United States
CATEGORIES:Community Prescriptions
END:VEVENT
BEGIN:VEVENT
DTSTART;TZID=America/Los_Angeles:20260930T100000
DTEND;TZID=America/Los_Angeles:20260930T150000
DTSTAMP:20260421T153223
CREATED:20251114T231714Z
LAST-MODIFIED:20251202T203651Z
UID:10007213-1790762400-1790780400@bluezoneshealth.com
SUMMARY:San Diego Deaf Seniors Club
DESCRIPTION:Seniors who are deaf or adults of deaf parents are invited to join this social group! American Sign Language is primarily used. Text 619-851-0850 or video call 619-259-5046 for more information
URL:https://bluezoneshealth.com/event/san-diego-deaf-seniors-club/2026-09-30/
LOCATION:Park De la Cruz Community Center\, 3901 Landis Street\, San Diego\, CA\, 92105\, United States
CATEGORIES:Community Prescriptions
END:VEVENT
BEGIN:VEVENT
DTSTART;TZID=America/Los_Angeles:20261007T100000
DTEND;TZID=America/Los_Angeles:20261007T150000
DTSTAMP:20260421T153223
CREATED:20251114T231714Z
LAST-MODIFIED:20251202T203651Z
UID:10007214-1791367200-1791385200@bluezoneshealth.com
SUMMARY:San Diego Deaf Seniors Club
DESCRIPTION:Seniors who are deaf or adults of deaf parents are invited to join this social group! American Sign Language is primarily used. Text 619-851-0850 or video call 619-259-5046 for more information
URL:https://bluezoneshealth.com/event/san-diego-deaf-seniors-club/2026-10-07/
LOCATION:Park De la Cruz Community Center\, 3901 Landis Street\, San Diego\, CA\, 92105\, United States
CATEGORIES:Community Prescriptions
END:VEVENT
BEGIN:VEVENT
DTSTART;TZID=America/Los_Angeles:20261014T100000
DTEND;TZID=America/Los_Angeles:20261014T150000
DTSTAMP:20260421T153223
CREATED:20251114T231714Z
LAST-MODIFIED:20251202T203651Z
UID:10007215-1791972000-1791990000@bluezoneshealth.com
SUMMARY:San Diego Deaf Seniors Club
DESCRIPTION:Seniors who are deaf or adults of deaf parents are invited to join this social group! American Sign Language is primarily used. Text 619-851-0850 or video call 619-259-5046 for more information
URL:https://bluezoneshealth.com/event/san-diego-deaf-seniors-club/2026-10-14/
LOCATION:Park De la Cruz Community Center\, 3901 Landis Street\, San Diego\, CA\, 92105\, United States
CATEGORIES:Community Prescriptions
END:VEVENT
BEGIN:VEVENT
DTSTART;TZID=America/Los_Angeles:20261021T100000
DTEND;TZID=America/Los_Angeles:20261021T150000
DTSTAMP:20260421T153223
CREATED:20251114T231714Z
LAST-MODIFIED:20251202T203651Z
UID:10007216-1792576800-1792594800@bluezoneshealth.com
SUMMARY:San Diego Deaf Seniors Club
DESCRIPTION:Seniors who are deaf or adults of deaf parents are invited to join this social group! American Sign Language is primarily used. Text 619-851-0850 or video call 619-259-5046 for more information
URL:https://bluezoneshealth.com/event/san-diego-deaf-seniors-club/2026-10-21/
LOCATION:Park De la Cruz Community Center\, 3901 Landis Street\, San Diego\, CA\, 92105\, United States
CATEGORIES:Community Prescriptions
END:VEVENT
BEGIN:VEVENT
DTSTART;TZID=America/Los_Angeles:20261028T100000
DTEND;TZID=America/Los_Angeles:20261028T150000
DTSTAMP:20260421T153223
CREATED:20251114T231714Z
LAST-MODIFIED:20251202T203651Z
UID:10007217-1793181600-1793199600@bluezoneshealth.com
SUMMARY:San Diego Deaf Seniors Club
DESCRIPTION:Seniors who are deaf or adults of deaf parents are invited to join this social group! American Sign Language is primarily used. Text 619-851-0850 or video call 619-259-5046 for more information
URL:https://bluezoneshealth.com/event/san-diego-deaf-seniors-club/2026-10-28/
LOCATION:Park De la Cruz Community Center\, 3901 Landis Street\, San Diego\, CA\, 92105\, United States
CATEGORIES:Community Prescriptions
END:VEVENT
BEGIN:VEVENT
DTSTART;TZID=America/Los_Angeles:20261104T100000
DTEND;TZID=America/Los_Angeles:20261104T150000
DTSTAMP:20260421T153223
CREATED:20251114T231714Z
LAST-MODIFIED:20251202T203651Z
UID:10007218-1793786400-1793804400@bluezoneshealth.com
SUMMARY:San Diego Deaf Seniors Club
DESCRIPTION:Seniors who are deaf or adults of deaf parents are invited to join this social group! American Sign Language is primarily used. Text 619-851-0850 or video call 619-259-5046 for more information
URL:https://bluezoneshealth.com/event/san-diego-deaf-seniors-club/2026-11-04/
LOCATION:Park De la Cruz Community Center\, 3901 Landis Street\, San Diego\, CA\, 92105\, United States
CATEGORIES:Community Prescriptions
END:VEVENT
BEGIN:VEVENT
DTSTART;TZID=America/Los_Angeles:20261111T100000
DTEND;TZID=America/Los_Angeles:20261111T150000
DTSTAMP:20260421T153223
CREATED:20251114T231714Z
LAST-MODIFIED:20251202T203651Z
UID:10007219-1794391200-1794409200@bluezoneshealth.com
SUMMARY:San Diego Deaf Seniors Club
DESCRIPTION:Seniors who are deaf or adults of deaf parents are invited to join this social group! American Sign Language is primarily used. Text 619-851-0850 or video call 619-259-5046 for more information
URL:https://bluezoneshealth.com/event/san-diego-deaf-seniors-club/2026-11-11/
LOCATION:Park De la Cruz Community Center\, 3901 Landis Street\, San Diego\, CA\, 92105\, United States
CATEGORIES:Community Prescriptions
END:VEVENT
END:VCALENDAR