BEGIN:VCALENDAR
VERSION:2.0
PRODID:-//Blue Zones Health - ECPv6.15.20//NONSGML v1.0//EN
CALSCALE:GREGORIAN
METHOD:PUBLISH
X-WR-CALNAME:Blue Zones Health
X-ORIGINAL-URL:https://bluezoneshealth.com
X-WR-CALDESC:Events for Blue Zones Health
REFRESH-INTERVAL;VALUE=DURATION:PT1H
X-Robots-Tag:noindex
X-PUBLISHED-TTL:PT1H
BEGIN:VTIMEZONE
TZID:America/Los_Angeles
BEGIN:DAYLIGHT
TZOFFSETFROM:-0800
TZOFFSETTO:-0700
TZNAME:PDT
DTSTART:20260308T100000
END:DAYLIGHT
BEGIN:STANDARD
TZOFFSETFROM:-0700
TZOFFSETTO:-0800
TZNAME:PST
DTSTART:20261101T090000
END:STANDARD
BEGIN:DAYLIGHT
TZOFFSETFROM:-0800
TZOFFSETTO:-0700
TZNAME:PDT
DTSTART:20270314T100000
END:DAYLIGHT
BEGIN:STANDARD
TZOFFSETFROM:-0700
TZOFFSETTO:-0800
TZNAME:PST
DTSTART:20271107T090000
END:STANDARD
BEGIN:DAYLIGHT
TZOFFSETFROM:-0800
TZOFFSETTO:-0700
TZNAME:PDT
DTSTART:20280312T100000
END:DAYLIGHT
BEGIN:STANDARD
TZOFFSETFROM:-0700
TZOFFSETTO:-0800
TZNAME:PST
DTSTART:20281105T090000
END:STANDARD
END:VTIMEZONE
BEGIN:VEVENT
DTSTART;TZID=America/Los_Angeles:20270113T150000
DTEND;TZID=America/Los_Angeles:20270113T190000
DTSTAMP:20260422T022400
CREATED:20260204T004427Z
LAST-MODIFIED:20260204T004427Z
UID:10016563-1799852400-1799866800@bluezoneshealth.com
SUMMARY:Jewelry and Glass Decor
DESCRIPTION:
URL:https://bluezoneshealth.com/event/jewelry-and-glass-decor/2027-01-13/
LOCATION:East Anaheim Community Center\, 8201 E. Santa Ana Canyon Rd.\, Anaheim Hills\, CA\, 92808\, United States
CATEGORIES:Community Prescriptions
END:VEVENT
BEGIN:VEVENT
DTSTART;TZID=America/Los_Angeles:20270120T130000
DTEND;TZID=America/Los_Angeles:20270120T150000
DTSTAMP:20260422T022400
CREATED:20260204T004151Z
LAST-MODIFIED:20260204T004151Z
UID:10016499-1800450000-1800457200@bluezoneshealth.com
SUMMARY:Movie Day
DESCRIPTION:
URL:https://bluezoneshealth.com/event/movie-day/2027-01-20/
LOCATION:East Anaheim Community Center\, 8201 E. Santa Ana Canyon Rd.\, Anaheim Hills\, CA\, 92808\, United States
CATEGORIES:Community Prescriptions
END:VEVENT
BEGIN:VEVENT
DTSTART;TZID=America/Los_Angeles:20270120T150000
DTEND;TZID=America/Los_Angeles:20270120T190000
DTSTAMP:20260422T022400
CREATED:20260204T004427Z
LAST-MODIFIED:20260204T004427Z
UID:10016564-1800457200-1800471600@bluezoneshealth.com
SUMMARY:Jewelry and Glass Decor
DESCRIPTION:
URL:https://bluezoneshealth.com/event/jewelry-and-glass-decor/2027-01-20/
LOCATION:East Anaheim Community Center\, 8201 E. Santa Ana Canyon Rd.\, Anaheim Hills\, CA\, 92808\, United States
CATEGORIES:Community Prescriptions
END:VEVENT
BEGIN:VEVENT
DTSTART;TZID=America/Los_Angeles:20270127T130000
DTEND;TZID=America/Los_Angeles:20270127T150000
DTSTAMP:20260422T022400
CREATED:20260204T004151Z
LAST-MODIFIED:20260204T004151Z
UID:10016500-1801054800-1801062000@bluezoneshealth.com
SUMMARY:Movie Day
DESCRIPTION:
URL:https://bluezoneshealth.com/event/movie-day/2027-01-27/
LOCATION:East Anaheim Community Center\, 8201 E. Santa Ana Canyon Rd.\, Anaheim Hills\, CA\, 92808\, United States
CATEGORIES:Community Prescriptions
END:VEVENT
BEGIN:VEVENT
DTSTART;TZID=America/Los_Angeles:20270127T150000
DTEND;TZID=America/Los_Angeles:20270127T190000
DTSTAMP:20260422T022400
CREATED:20260204T004427Z
LAST-MODIFIED:20260204T004427Z
UID:10016565-1801062000-1801076400@bluezoneshealth.com
SUMMARY:Jewelry and Glass Decor
DESCRIPTION:
URL:https://bluezoneshealth.com/event/jewelry-and-glass-decor/2027-01-27/
LOCATION:East Anaheim Community Center\, 8201 E. Santa Ana Canyon Rd.\, Anaheim Hills\, CA\, 92808\, United States
CATEGORIES:Community Prescriptions
END:VEVENT
BEGIN:VEVENT
DTSTART;TZID=America/Los_Angeles:20270203T130000
DTEND;TZID=America/Los_Angeles:20270203T150000
DTSTAMP:20260422T022400
CREATED:20260204T004151Z
LAST-MODIFIED:20260204T004151Z
UID:10016501-1801659600-1801666800@bluezoneshealth.com
SUMMARY:Movie Day
DESCRIPTION:
URL:https://bluezoneshealth.com/event/movie-day/2027-02-03/
LOCATION:East Anaheim Community Center\, 8201 E. Santa Ana Canyon Rd.\, Anaheim Hills\, CA\, 92808\, United States
CATEGORIES:Community Prescriptions
END:VEVENT
BEGIN:VEVENT
DTSTART;TZID=America/Los_Angeles:20270203T150000
DTEND;TZID=America/Los_Angeles:20270203T190000
DTSTAMP:20260422T022400
CREATED:20260204T004427Z
LAST-MODIFIED:20260204T004427Z
UID:10016566-1801666800-1801681200@bluezoneshealth.com
SUMMARY:Jewelry and Glass Decor
DESCRIPTION:
URL:https://bluezoneshealth.com/event/jewelry-and-glass-decor/2027-02-03/
LOCATION:East Anaheim Community Center\, 8201 E. Santa Ana Canyon Rd.\, Anaheim Hills\, CA\, 92808\, United States
CATEGORIES:Community Prescriptions
END:VEVENT
BEGIN:VEVENT
DTSTART;TZID=America/Los_Angeles:20270210T130000
DTEND;TZID=America/Los_Angeles:20270210T150000
DTSTAMP:20260422T022400
CREATED:20260204T004151Z
LAST-MODIFIED:20260204T004151Z
UID:10016502-1802264400-1802271600@bluezoneshealth.com
SUMMARY:Movie Day
DESCRIPTION:
URL:https://bluezoneshealth.com/event/movie-day/2027-02-10/
LOCATION:East Anaheim Community Center\, 8201 E. Santa Ana Canyon Rd.\, Anaheim Hills\, CA\, 92808\, United States
CATEGORIES:Community Prescriptions
END:VEVENT
BEGIN:VEVENT
DTSTART;TZID=America/Los_Angeles:20270210T150000
DTEND;TZID=America/Los_Angeles:20270210T190000
DTSTAMP:20260422T022400
CREATED:20260204T004427Z
LAST-MODIFIED:20260204T004427Z
UID:10016567-1802271600-1802286000@bluezoneshealth.com
SUMMARY:Jewelry and Glass Decor
DESCRIPTION:
URL:https://bluezoneshealth.com/event/jewelry-and-glass-decor/2027-02-10/
LOCATION:East Anaheim Community Center\, 8201 E. Santa Ana Canyon Rd.\, Anaheim Hills\, CA\, 92808\, United States
CATEGORIES:Community Prescriptions
END:VEVENT
BEGIN:VEVENT
DTSTART;TZID=America/Los_Angeles:20270217T130000
DTEND;TZID=America/Los_Angeles:20270217T150000
DTSTAMP:20260422T022400
CREATED:20260204T004151Z
LAST-MODIFIED:20260204T004151Z
UID:10016503-1802869200-1802876400@bluezoneshealth.com
SUMMARY:Movie Day
DESCRIPTION:
URL:https://bluezoneshealth.com/event/movie-day/2027-02-17/
LOCATION:East Anaheim Community Center\, 8201 E. Santa Ana Canyon Rd.\, Anaheim Hills\, CA\, 92808\, United States
CATEGORIES:Community Prescriptions
END:VEVENT
BEGIN:VEVENT
DTSTART;TZID=America/Los_Angeles:20270217T150000
DTEND;TZID=America/Los_Angeles:20270217T190000
DTSTAMP:20260422T022400
CREATED:20260204T004427Z
LAST-MODIFIED:20260204T004427Z
UID:10016568-1802876400-1802890800@bluezoneshealth.com
SUMMARY:Jewelry and Glass Decor
DESCRIPTION:
URL:https://bluezoneshealth.com/event/jewelry-and-glass-decor/2027-02-17/
LOCATION:East Anaheim Community Center\, 8201 E. Santa Ana Canyon Rd.\, Anaheim Hills\, CA\, 92808\, United States
CATEGORIES:Community Prescriptions
END:VEVENT
BEGIN:VEVENT
DTSTART;TZID=America/Los_Angeles:20270224T130000
DTEND;TZID=America/Los_Angeles:20270224T150000
DTSTAMP:20260422T022400
CREATED:20260204T004151Z
LAST-MODIFIED:20260204T004151Z
UID:10016504-1803474000-1803481200@bluezoneshealth.com
SUMMARY:Movie Day
DESCRIPTION:
URL:https://bluezoneshealth.com/event/movie-day/2027-02-24/
LOCATION:East Anaheim Community Center\, 8201 E. Santa Ana Canyon Rd.\, Anaheim Hills\, CA\, 92808\, United States
CATEGORIES:Community Prescriptions
END:VEVENT
BEGIN:VEVENT
DTSTART;TZID=America/Los_Angeles:20270224T150000
DTEND;TZID=America/Los_Angeles:20270224T190000
DTSTAMP:20260422T022400
CREATED:20260204T004427Z
LAST-MODIFIED:20260204T004427Z
UID:10016569-1803481200-1803495600@bluezoneshealth.com
SUMMARY:Jewelry and Glass Decor
DESCRIPTION:
URL:https://bluezoneshealth.com/event/jewelry-and-glass-decor/2027-02-24/
LOCATION:East Anaheim Community Center\, 8201 E. Santa Ana Canyon Rd.\, Anaheim Hills\, CA\, 92808\, United States
CATEGORIES:Community Prescriptions
END:VEVENT
BEGIN:VEVENT
DTSTART;TZID=America/Los_Angeles:20270303T130000
DTEND;TZID=America/Los_Angeles:20270303T150000
DTSTAMP:20260422T022400
CREATED:20260204T004151Z
LAST-MODIFIED:20260204T004151Z
UID:10016505-1804078800-1804086000@bluezoneshealth.com
SUMMARY:Movie Day
DESCRIPTION:
URL:https://bluezoneshealth.com/event/movie-day/2027-03-03/
LOCATION:East Anaheim Community Center\, 8201 E. Santa Ana Canyon Rd.\, Anaheim Hills\, CA\, 92808\, United States
CATEGORIES:Community Prescriptions
END:VEVENT
BEGIN:VEVENT
DTSTART;TZID=America/Los_Angeles:20270303T150000
DTEND;TZID=America/Los_Angeles:20270303T190000
DTSTAMP:20260422T022400
CREATED:20260204T004427Z
LAST-MODIFIED:20260204T004427Z
UID:10016570-1804086000-1804100400@bluezoneshealth.com
SUMMARY:Jewelry and Glass Decor
DESCRIPTION:
URL:https://bluezoneshealth.com/event/jewelry-and-glass-decor/2027-03-03/
LOCATION:East Anaheim Community Center\, 8201 E. Santa Ana Canyon Rd.\, Anaheim Hills\, CA\, 92808\, United States
CATEGORIES:Community Prescriptions
END:VEVENT
BEGIN:VEVENT
DTSTART;TZID=America/Los_Angeles:20270310T130000
DTEND;TZID=America/Los_Angeles:20270310T150000
DTSTAMP:20260422T022400
CREATED:20260204T004151Z
LAST-MODIFIED:20260204T004151Z
UID:10016506-1804683600-1804690800@bluezoneshealth.com
SUMMARY:Movie Day
DESCRIPTION:
URL:https://bluezoneshealth.com/event/movie-day/2027-03-10/
LOCATION:East Anaheim Community Center\, 8201 E. Santa Ana Canyon Rd.\, Anaheim Hills\, CA\, 92808\, United States
CATEGORIES:Community Prescriptions
END:VEVENT
BEGIN:VEVENT
DTSTART;TZID=America/Los_Angeles:20270310T150000
DTEND;TZID=America/Los_Angeles:20270310T190000
DTSTAMP:20260422T022400
CREATED:20260204T004427Z
LAST-MODIFIED:20260204T004427Z
UID:10016571-1804690800-1804705200@bluezoneshealth.com
SUMMARY:Jewelry and Glass Decor
DESCRIPTION:
URL:https://bluezoneshealth.com/event/jewelry-and-glass-decor/2027-03-10/
LOCATION:East Anaheim Community Center\, 8201 E. Santa Ana Canyon Rd.\, Anaheim Hills\, CA\, 92808\, United States
CATEGORIES:Community Prescriptions
END:VEVENT
BEGIN:VEVENT
DTSTART;TZID=America/Los_Angeles:20270317T130000
DTEND;TZID=America/Los_Angeles:20270317T150000
DTSTAMP:20260422T022400
CREATED:20260204T004151Z
LAST-MODIFIED:20260204T004151Z
UID:10016507-1805288400-1805295600@bluezoneshealth.com
SUMMARY:Movie Day
DESCRIPTION:
URL:https://bluezoneshealth.com/event/movie-day/2027-03-17/
LOCATION:East Anaheim Community Center\, 8201 E. Santa Ana Canyon Rd.\, Anaheim Hills\, CA\, 92808\, United States
CATEGORIES:Community Prescriptions
END:VEVENT
BEGIN:VEVENT
DTSTART;TZID=America/Los_Angeles:20270317T150000
DTEND;TZID=America/Los_Angeles:20270317T190000
DTSTAMP:20260422T022400
CREATED:20260204T004427Z
LAST-MODIFIED:20260204T004427Z
UID:10016572-1805295600-1805310000@bluezoneshealth.com
SUMMARY:Jewelry and Glass Decor
DESCRIPTION:
URL:https://bluezoneshealth.com/event/jewelry-and-glass-decor/2027-03-17/
LOCATION:East Anaheim Community Center\, 8201 E. Santa Ana Canyon Rd.\, Anaheim Hills\, CA\, 92808\, United States
CATEGORIES:Community Prescriptions
END:VEVENT
BEGIN:VEVENT
DTSTART;TZID=America/Los_Angeles:20270324T130000
DTEND;TZID=America/Los_Angeles:20270324T150000
DTSTAMP:20260422T022400
CREATED:20260204T004151Z
LAST-MODIFIED:20260204T004151Z
UID:10016508-1805893200-1805900400@bluezoneshealth.com
SUMMARY:Movie Day
DESCRIPTION:
URL:https://bluezoneshealth.com/event/movie-day/2027-03-24/
LOCATION:East Anaheim Community Center\, 8201 E. Santa Ana Canyon Rd.\, Anaheim Hills\, CA\, 92808\, United States
CATEGORIES:Community Prescriptions
END:VEVENT
BEGIN:VEVENT
DTSTART;TZID=America/Los_Angeles:20270324T150000
DTEND;TZID=America/Los_Angeles:20270324T190000
DTSTAMP:20260422T022400
CREATED:20260204T004427Z
LAST-MODIFIED:20260204T004427Z
UID:10016573-1805900400-1805914800@bluezoneshealth.com
SUMMARY:Jewelry and Glass Decor
DESCRIPTION:
URL:https://bluezoneshealth.com/event/jewelry-and-glass-decor/2027-03-24/
LOCATION:East Anaheim Community Center\, 8201 E. Santa Ana Canyon Rd.\, Anaheim Hills\, CA\, 92808\, United States
CATEGORIES:Community Prescriptions
END:VEVENT
BEGIN:VEVENT
DTSTART;TZID=America/Los_Angeles:20270331T130000
DTEND;TZID=America/Los_Angeles:20270331T150000
DTSTAMP:20260422T022400
CREATED:20260204T004151Z
LAST-MODIFIED:20260204T004151Z
UID:10016509-1806498000-1806505200@bluezoneshealth.com
SUMMARY:Movie Day
DESCRIPTION:
URL:https://bluezoneshealth.com/event/movie-day/2027-03-31/
LOCATION:East Anaheim Community Center\, 8201 E. Santa Ana Canyon Rd.\, Anaheim Hills\, CA\, 92808\, United States
CATEGORIES:Community Prescriptions
END:VEVENT
BEGIN:VEVENT
DTSTART;TZID=America/Los_Angeles:20270331T150000
DTEND;TZID=America/Los_Angeles:20270331T190000
DTSTAMP:20260422T022400
CREATED:20260204T004427Z
LAST-MODIFIED:20260204T004427Z
UID:10016574-1806505200-1806519600@bluezoneshealth.com
SUMMARY:Jewelry and Glass Decor
DESCRIPTION:
URL:https://bluezoneshealth.com/event/jewelry-and-glass-decor/2027-03-31/
LOCATION:East Anaheim Community Center\, 8201 E. Santa Ana Canyon Rd.\, Anaheim Hills\, CA\, 92808\, United States
CATEGORIES:Community Prescriptions
END:VEVENT
BEGIN:VEVENT
DTSTART;TZID=America/Los_Angeles:20270407T130000
DTEND;TZID=America/Los_Angeles:20270407T150000
DTSTAMP:20260422T022400
CREATED:20260204T004151Z
LAST-MODIFIED:20260204T004151Z
UID:10016510-1807102800-1807110000@bluezoneshealth.com
SUMMARY:Movie Day
DESCRIPTION:
URL:https://bluezoneshealth.com/event/movie-day/2027-04-07/
LOCATION:East Anaheim Community Center\, 8201 E. Santa Ana Canyon Rd.\, Anaheim Hills\, CA\, 92808\, United States
CATEGORIES:Community Prescriptions
END:VEVENT
BEGIN:VEVENT
DTSTART;TZID=America/Los_Angeles:20270407T150000
DTEND;TZID=America/Los_Angeles:20270407T190000
DTSTAMP:20260422T022401
CREATED:20260204T004427Z
LAST-MODIFIED:20260204T004427Z
UID:10016575-1807110000-1807124400@bluezoneshealth.com
SUMMARY:Jewelry and Glass Decor
DESCRIPTION:
URL:https://bluezoneshealth.com/event/jewelry-and-glass-decor/2027-04-07/
LOCATION:East Anaheim Community Center\, 8201 E. Santa Ana Canyon Rd.\, Anaheim Hills\, CA\, 92808\, United States
CATEGORIES:Community Prescriptions
END:VEVENT
BEGIN:VEVENT
DTSTART;TZID=America/Los_Angeles:20270414T130000
DTEND;TZID=America/Los_Angeles:20270414T150000
DTSTAMP:20260422T022401
CREATED:20260204T004151Z
LAST-MODIFIED:20260204T004151Z
UID:10016511-1807707600-1807714800@bluezoneshealth.com
SUMMARY:Movie Day
DESCRIPTION:
URL:https://bluezoneshealth.com/event/movie-day/2027-04-14/
LOCATION:East Anaheim Community Center\, 8201 E. Santa Ana Canyon Rd.\, Anaheim Hills\, CA\, 92808\, United States
CATEGORIES:Community Prescriptions
END:VEVENT
BEGIN:VEVENT
DTSTART;TZID=America/Los_Angeles:20270414T150000
DTEND;TZID=America/Los_Angeles:20270414T190000
DTSTAMP:20260422T022401
CREATED:20260204T004427Z
LAST-MODIFIED:20260204T004427Z
UID:10016576-1807714800-1807729200@bluezoneshealth.com
SUMMARY:Jewelry and Glass Decor
DESCRIPTION:
URL:https://bluezoneshealth.com/event/jewelry-and-glass-decor/2027-04-14/
LOCATION:East Anaheim Community Center\, 8201 E. Santa Ana Canyon Rd.\, Anaheim Hills\, CA\, 92808\, United States
CATEGORIES:Community Prescriptions
END:VEVENT
BEGIN:VEVENT
DTSTART;TZID=America/Los_Angeles:20270421T130000
DTEND;TZID=America/Los_Angeles:20270421T150000
DTSTAMP:20260422T022401
CREATED:20260204T004151Z
LAST-MODIFIED:20260204T004151Z
UID:10016512-1808312400-1808319600@bluezoneshealth.com
SUMMARY:Movie Day
DESCRIPTION:
URL:https://bluezoneshealth.com/event/movie-day/2027-04-21/
LOCATION:East Anaheim Community Center\, 8201 E. Santa Ana Canyon Rd.\, Anaheim Hills\, CA\, 92808\, United States
CATEGORIES:Community Prescriptions
END:VEVENT
BEGIN:VEVENT
DTSTART;TZID=America/Los_Angeles:20270421T150000
DTEND;TZID=America/Los_Angeles:20270421T190000
DTSTAMP:20260422T022401
CREATED:20260204T004427Z
LAST-MODIFIED:20260204T004427Z
UID:10016577-1808319600-1808334000@bluezoneshealth.com
SUMMARY:Jewelry and Glass Decor
DESCRIPTION:
URL:https://bluezoneshealth.com/event/jewelry-and-glass-decor/2027-04-21/
LOCATION:East Anaheim Community Center\, 8201 E. Santa Ana Canyon Rd.\, Anaheim Hills\, CA\, 92808\, United States
CATEGORIES:Community Prescriptions
END:VEVENT
BEGIN:VEVENT
DTSTART;TZID=America/Los_Angeles:20270428T130000
DTEND;TZID=America/Los_Angeles:20270428T150000
DTSTAMP:20260422T022401
CREATED:20260204T004151Z
LAST-MODIFIED:20260204T004151Z
UID:10016513-1808917200-1808924400@bluezoneshealth.com
SUMMARY:Movie Day
DESCRIPTION:
URL:https://bluezoneshealth.com/event/movie-day/2027-04-28/
LOCATION:East Anaheim Community Center\, 8201 E. Santa Ana Canyon Rd.\, Anaheim Hills\, CA\, 92808\, United States
CATEGORIES:Community Prescriptions
END:VEVENT
END:VCALENDAR