BEGIN:VCALENDAR
VERSION:2.0
PRODID:-//Blue Zones Health - ECPv6.15.20//NONSGML v1.0//EN
CALSCALE:GREGORIAN
METHOD:PUBLISH
X-ORIGINAL-URL:https://bluezoneshealth.com
X-WR-CALDESC:Events for Blue Zones Health
REFRESH-INTERVAL;VALUE=DURATION:PT1H
X-Robots-Tag:noindex
X-PUBLISHED-TTL:PT1H
BEGIN:VTIMEZONE
TZID:America/Los_Angeles
BEGIN:DAYLIGHT
TZOFFSETFROM:-0800
TZOFFSETTO:-0700
TZNAME:PDT
DTSTART:20250309T100000
END:DAYLIGHT
BEGIN:STANDARD
TZOFFSETFROM:-0700
TZOFFSETTO:-0800
TZNAME:PST
DTSTART:20251102T090000
END:STANDARD
BEGIN:DAYLIGHT
TZOFFSETFROM:-0800
TZOFFSETTO:-0700
TZNAME:PDT
DTSTART:20260308T100000
END:DAYLIGHT
BEGIN:STANDARD
TZOFFSETFROM:-0700
TZOFFSETTO:-0800
TZNAME:PST
DTSTART:20261101T090000
END:STANDARD
BEGIN:DAYLIGHT
TZOFFSETFROM:-0800
TZOFFSETTO:-0700
TZNAME:PDT
DTSTART:20270314T100000
END:DAYLIGHT
BEGIN:STANDARD
TZOFFSETFROM:-0700
TZOFFSETTO:-0800
TZNAME:PST
DTSTART:20271107T090000
END:STANDARD
END:VTIMEZONE
BEGIN:VEVENT
DTSTART;TZID=America/Los_Angeles:20260812T130000
DTEND;TZID=America/Los_Angeles:20260812T150000
DTSTAMP:20260421T201556
CREATED:20260204T004151Z
LAST-MODIFIED:20260204T004151Z
UID:10016476-1786539600-1786546800@bluezoneshealth.com
SUMMARY:Movie Day
DESCRIPTION:
URL:https://bluezoneshealth.com/event/movie-day/2026-08-12/
LOCATION:East Anaheim Community Center\, 8201 E. Santa Ana Canyon Rd.\, Anaheim Hills\, CA\, 92808\, United States
CATEGORIES:Community Prescriptions
END:VEVENT
BEGIN:VEVENT
DTSTART;TZID=America/Los_Angeles:20260812T150000
DTEND;TZID=America/Los_Angeles:20260812T190000
DTSTAMP:20260421T201556
CREATED:20260204T004427Z
LAST-MODIFIED:20260204T004427Z
UID:10016541-1786546800-1786561200@bluezoneshealth.com
SUMMARY:Jewelry and Glass Decor
DESCRIPTION:
URL:https://bluezoneshealth.com/event/jewelry-and-glass-decor/2026-08-12/
LOCATION:East Anaheim Community Center\, 8201 E. Santa Ana Canyon Rd.\, Anaheim Hills\, CA\, 92808\, United States
CATEGORIES:Community Prescriptions
END:VEVENT
BEGIN:VEVENT
DTSTART;TZID=America/Los_Angeles:20260819T130000
DTEND;TZID=America/Los_Angeles:20260819T150000
DTSTAMP:20260421T201556
CREATED:20260204T004151Z
LAST-MODIFIED:20260204T004151Z
UID:10016477-1787144400-1787151600@bluezoneshealth.com
SUMMARY:Movie Day
DESCRIPTION:
URL:https://bluezoneshealth.com/event/movie-day/2026-08-19/
LOCATION:East Anaheim Community Center\, 8201 E. Santa Ana Canyon Rd.\, Anaheim Hills\, CA\, 92808\, United States
CATEGORIES:Community Prescriptions
END:VEVENT
BEGIN:VEVENT
DTSTART;TZID=America/Los_Angeles:20260819T150000
DTEND;TZID=America/Los_Angeles:20260819T190000
DTSTAMP:20260421T201556
CREATED:20260204T004427Z
LAST-MODIFIED:20260204T004427Z
UID:10016542-1787151600-1787166000@bluezoneshealth.com
SUMMARY:Jewelry and Glass Decor
DESCRIPTION:
URL:https://bluezoneshealth.com/event/jewelry-and-glass-decor/2026-08-19/
LOCATION:East Anaheim Community Center\, 8201 E. Santa Ana Canyon Rd.\, Anaheim Hills\, CA\, 92808\, United States
CATEGORIES:Community Prescriptions
END:VEVENT
BEGIN:VEVENT
DTSTART;TZID=America/Los_Angeles:20260826T130000
DTEND;TZID=America/Los_Angeles:20260826T150000
DTSTAMP:20260421T201556
CREATED:20260204T004151Z
LAST-MODIFIED:20260204T004151Z
UID:10016478-1787749200-1787756400@bluezoneshealth.com
SUMMARY:Movie Day
DESCRIPTION:
URL:https://bluezoneshealth.com/event/movie-day/2026-08-26/
LOCATION:East Anaheim Community Center\, 8201 E. Santa Ana Canyon Rd.\, Anaheim Hills\, CA\, 92808\, United States
CATEGORIES:Community Prescriptions
END:VEVENT
BEGIN:VEVENT
DTSTART;TZID=America/Los_Angeles:20260826T150000
DTEND;TZID=America/Los_Angeles:20260826T190000
DTSTAMP:20260421T201556
CREATED:20260204T004427Z
LAST-MODIFIED:20260204T004427Z
UID:10016543-1787756400-1787770800@bluezoneshealth.com
SUMMARY:Jewelry and Glass Decor
DESCRIPTION:
URL:https://bluezoneshealth.com/event/jewelry-and-glass-decor/2026-08-26/
LOCATION:East Anaheim Community Center\, 8201 E. Santa Ana Canyon Rd.\, Anaheim Hills\, CA\, 92808\, United States
CATEGORIES:Community Prescriptions
END:VEVENT
BEGIN:VEVENT
DTSTART;TZID=America/Los_Angeles:20260902T130000
DTEND;TZID=America/Los_Angeles:20260902T150000
DTSTAMP:20260421T201556
CREATED:20260204T004151Z
LAST-MODIFIED:20260204T004151Z
UID:10016479-1788354000-1788361200@bluezoneshealth.com
SUMMARY:Movie Day
DESCRIPTION:
URL:https://bluezoneshealth.com/event/movie-day/2026-09-02/
LOCATION:East Anaheim Community Center\, 8201 E. Santa Ana Canyon Rd.\, Anaheim Hills\, CA\, 92808\, United States
CATEGORIES:Community Prescriptions
END:VEVENT
BEGIN:VEVENT
DTSTART;TZID=America/Los_Angeles:20260902T150000
DTEND;TZID=America/Los_Angeles:20260902T190000
DTSTAMP:20260421T201556
CREATED:20260204T004427Z
LAST-MODIFIED:20260204T004427Z
UID:10016544-1788361200-1788375600@bluezoneshealth.com
SUMMARY:Jewelry and Glass Decor
DESCRIPTION:
URL:https://bluezoneshealth.com/event/jewelry-and-glass-decor/2026-09-02/
LOCATION:East Anaheim Community Center\, 8201 E. Santa Ana Canyon Rd.\, Anaheim Hills\, CA\, 92808\, United States
CATEGORIES:Community Prescriptions
END:VEVENT
BEGIN:VEVENT
DTSTART;TZID=America/Los_Angeles:20260909T130000
DTEND;TZID=America/Los_Angeles:20260909T150000
DTSTAMP:20260421T201556
CREATED:20260204T004151Z
LAST-MODIFIED:20260204T004151Z
UID:10016480-1788958800-1788966000@bluezoneshealth.com
SUMMARY:Movie Day
DESCRIPTION:
URL:https://bluezoneshealth.com/event/movie-day/2026-09-09/
LOCATION:East Anaheim Community Center\, 8201 E. Santa Ana Canyon Rd.\, Anaheim Hills\, CA\, 92808\, United States
CATEGORIES:Community Prescriptions
END:VEVENT
BEGIN:VEVENT
DTSTART;TZID=America/Los_Angeles:20260909T150000
DTEND;TZID=America/Los_Angeles:20260909T190000
DTSTAMP:20260421T201556
CREATED:20260204T004427Z
LAST-MODIFIED:20260204T004427Z
UID:10016545-1788966000-1788980400@bluezoneshealth.com
SUMMARY:Jewelry and Glass Decor
DESCRIPTION:
URL:https://bluezoneshealth.com/event/jewelry-and-glass-decor/2026-09-09/
LOCATION:East Anaheim Community Center\, 8201 E. Santa Ana Canyon Rd.\, Anaheim Hills\, CA\, 92808\, United States
CATEGORIES:Community Prescriptions
END:VEVENT
BEGIN:VEVENT
DTSTART;TZID=America/Los_Angeles:20260914T100000
DTEND;TZID=America/Los_Angeles:20260914T110000
DTSTAMP:20260421T201556
CREATED:20260114T220613Z
LAST-MODIFIED:20260116T195431Z
UID:10007058-1789380000-1789383600@bluezoneshealth.com
SUMMARY:Chair Yoga at Sycamore Park
DESCRIPTION:A modified form of yoga that uses a chair for support to practice poses while seated or using the chair for stability while standing
URL:https://bluezoneshealth.com/event/chair-yoga-at-sycamore-park-2/2026-09-14/
LOCATION:East Anaheim Community Center\, 8201 E. Santa Ana Canyon Rd.\, Anaheim Hills\, CA\, 92808\, United States
CATEGORIES:Community Prescriptions
END:VEVENT
BEGIN:VEVENT
DTSTART;TZID=America/Los_Angeles:20260916T130000
DTEND;TZID=America/Los_Angeles:20260916T150000
DTSTAMP:20260421T201556
CREATED:20260204T004151Z
LAST-MODIFIED:20260204T004151Z
UID:10016481-1789563600-1789570800@bluezoneshealth.com
SUMMARY:Movie Day
DESCRIPTION:
URL:https://bluezoneshealth.com/event/movie-day/2026-09-16/
LOCATION:East Anaheim Community Center\, 8201 E. Santa Ana Canyon Rd.\, Anaheim Hills\, CA\, 92808\, United States
CATEGORIES:Community Prescriptions
END:VEVENT
BEGIN:VEVENT
DTSTART;TZID=America/Los_Angeles:20260916T150000
DTEND;TZID=America/Los_Angeles:20260916T190000
DTSTAMP:20260421T201556
CREATED:20260204T004427Z
LAST-MODIFIED:20260204T004427Z
UID:10016546-1789570800-1789585200@bluezoneshealth.com
SUMMARY:Jewelry and Glass Decor
DESCRIPTION:
URL:https://bluezoneshealth.com/event/jewelry-and-glass-decor/2026-09-16/
LOCATION:East Anaheim Community Center\, 8201 E. Santa Ana Canyon Rd.\, Anaheim Hills\, CA\, 92808\, United States
CATEGORIES:Community Prescriptions
END:VEVENT
BEGIN:VEVENT
DTSTART;TZID=America/Los_Angeles:20260923T130000
DTEND;TZID=America/Los_Angeles:20260923T150000
DTSTAMP:20260421T201556
CREATED:20260204T004151Z
LAST-MODIFIED:20260204T004151Z
UID:10016482-1790168400-1790175600@bluezoneshealth.com
SUMMARY:Movie Day
DESCRIPTION:
URL:https://bluezoneshealth.com/event/movie-day/2026-09-23/
LOCATION:East Anaheim Community Center\, 8201 E. Santa Ana Canyon Rd.\, Anaheim Hills\, CA\, 92808\, United States
CATEGORIES:Community Prescriptions
END:VEVENT
BEGIN:VEVENT
DTSTART;TZID=America/Los_Angeles:20260923T150000
DTEND;TZID=America/Los_Angeles:20260923T190000
DTSTAMP:20260421T201556
CREATED:20260204T004427Z
LAST-MODIFIED:20260204T004427Z
UID:10016547-1790175600-1790190000@bluezoneshealth.com
SUMMARY:Jewelry and Glass Decor
DESCRIPTION:
URL:https://bluezoneshealth.com/event/jewelry-and-glass-decor/2026-09-23/
LOCATION:East Anaheim Community Center\, 8201 E. Santa Ana Canyon Rd.\, Anaheim Hills\, CA\, 92808\, United States
CATEGORIES:Community Prescriptions
END:VEVENT
BEGIN:VEVENT
DTSTART;TZID=America/Los_Angeles:20260930T130000
DTEND;TZID=America/Los_Angeles:20260930T150000
DTSTAMP:20260421T201556
CREATED:20260204T004151Z
LAST-MODIFIED:20260204T004151Z
UID:10016483-1790773200-1790780400@bluezoneshealth.com
SUMMARY:Movie Day
DESCRIPTION:
URL:https://bluezoneshealth.com/event/movie-day/2026-09-30/
LOCATION:East Anaheim Community Center\, 8201 E. Santa Ana Canyon Rd.\, Anaheim Hills\, CA\, 92808\, United States
CATEGORIES:Community Prescriptions
END:VEVENT
BEGIN:VEVENT
DTSTART;TZID=America/Los_Angeles:20260930T150000
DTEND;TZID=America/Los_Angeles:20260930T190000
DTSTAMP:20260421T201556
CREATED:20260204T004427Z
LAST-MODIFIED:20260204T004427Z
UID:10016548-1790780400-1790794800@bluezoneshealth.com
SUMMARY:Jewelry and Glass Decor
DESCRIPTION:
URL:https://bluezoneshealth.com/event/jewelry-and-glass-decor/2026-09-30/
LOCATION:East Anaheim Community Center\, 8201 E. Santa Ana Canyon Rd.\, Anaheim Hills\, CA\, 92808\, United States
CATEGORIES:Community Prescriptions
END:VEVENT
BEGIN:VEVENT
DTSTART;TZID=America/Los_Angeles:20261007T130000
DTEND;TZID=America/Los_Angeles:20261007T150000
DTSTAMP:20260421T201556
CREATED:20260204T004151Z
LAST-MODIFIED:20260204T004151Z
UID:10016484-1791378000-1791385200@bluezoneshealth.com
SUMMARY:Movie Day
DESCRIPTION:
URL:https://bluezoneshealth.com/event/movie-day/2026-10-07/
LOCATION:East Anaheim Community Center\, 8201 E. Santa Ana Canyon Rd.\, Anaheim Hills\, CA\, 92808\, United States
CATEGORIES:Community Prescriptions
END:VEVENT
BEGIN:VEVENT
DTSTART;TZID=America/Los_Angeles:20261007T150000
DTEND;TZID=America/Los_Angeles:20261007T190000
DTSTAMP:20260421T201556
CREATED:20260204T004427Z
LAST-MODIFIED:20260204T004427Z
UID:10016549-1791385200-1791399600@bluezoneshealth.com
SUMMARY:Jewelry and Glass Decor
DESCRIPTION:
URL:https://bluezoneshealth.com/event/jewelry-and-glass-decor/2026-10-07/
LOCATION:East Anaheim Community Center\, 8201 E. Santa Ana Canyon Rd.\, Anaheim Hills\, CA\, 92808\, United States
CATEGORIES:Community Prescriptions
END:VEVENT
BEGIN:VEVENT
DTSTART;TZID=America/Los_Angeles:20261012T100000
DTEND;TZID=America/Los_Angeles:20261012T110000
DTSTAMP:20260421T201556
CREATED:20260114T220613Z
LAST-MODIFIED:20260116T195431Z
UID:10007062-1791799200-1791802800@bluezoneshealth.com
SUMMARY:Chair Yoga at Sycamore Park
DESCRIPTION:A modified form of yoga that uses a chair for support to practice poses while seated or using the chair for stability while standing
URL:https://bluezoneshealth.com/event/chair-yoga-at-sycamore-park-2/2026-10-12/
LOCATION:East Anaheim Community Center\, 8201 E. Santa Ana Canyon Rd.\, Anaheim Hills\, CA\, 92808\, United States
CATEGORIES:Community Prescriptions
END:VEVENT
BEGIN:VEVENT
DTSTART;TZID=America/Los_Angeles:20261014T130000
DTEND;TZID=America/Los_Angeles:20261014T150000
DTSTAMP:20260421T201556
CREATED:20260204T004151Z
LAST-MODIFIED:20260204T004151Z
UID:10016485-1791982800-1791990000@bluezoneshealth.com
SUMMARY:Movie Day
DESCRIPTION:
URL:https://bluezoneshealth.com/event/movie-day/2026-10-14/
LOCATION:East Anaheim Community Center\, 8201 E. Santa Ana Canyon Rd.\, Anaheim Hills\, CA\, 92808\, United States
CATEGORIES:Community Prescriptions
END:VEVENT
BEGIN:VEVENT
DTSTART;TZID=America/Los_Angeles:20261014T150000
DTEND;TZID=America/Los_Angeles:20261014T190000
DTSTAMP:20260421T201556
CREATED:20260204T004427Z
LAST-MODIFIED:20260204T004427Z
UID:10016550-1791990000-1792004400@bluezoneshealth.com
SUMMARY:Jewelry and Glass Decor
DESCRIPTION:
URL:https://bluezoneshealth.com/event/jewelry-and-glass-decor/2026-10-14/
LOCATION:East Anaheim Community Center\, 8201 E. Santa Ana Canyon Rd.\, Anaheim Hills\, CA\, 92808\, United States
CATEGORIES:Community Prescriptions
END:VEVENT
BEGIN:VEVENT
DTSTART;TZID=America/Los_Angeles:20261021T130000
DTEND;TZID=America/Los_Angeles:20261021T150000
DTSTAMP:20260421T201556
CREATED:20260204T004151Z
LAST-MODIFIED:20260204T004151Z
UID:10016486-1792587600-1792594800@bluezoneshealth.com
SUMMARY:Movie Day
DESCRIPTION:
URL:https://bluezoneshealth.com/event/movie-day/2026-10-21/
LOCATION:East Anaheim Community Center\, 8201 E. Santa Ana Canyon Rd.\, Anaheim Hills\, CA\, 92808\, United States
CATEGORIES:Community Prescriptions
END:VEVENT
BEGIN:VEVENT
DTSTART;TZID=America/Los_Angeles:20261021T150000
DTEND;TZID=America/Los_Angeles:20261021T190000
DTSTAMP:20260421T201556
CREATED:20260204T004427Z
LAST-MODIFIED:20260204T004427Z
UID:10016551-1792594800-1792609200@bluezoneshealth.com
SUMMARY:Jewelry and Glass Decor
DESCRIPTION:
URL:https://bluezoneshealth.com/event/jewelry-and-glass-decor/2026-10-21/
LOCATION:East Anaheim Community Center\, 8201 E. Santa Ana Canyon Rd.\, Anaheim Hills\, CA\, 92808\, United States
CATEGORIES:Community Prescriptions
END:VEVENT
BEGIN:VEVENT
DTSTART;TZID=America/Los_Angeles:20261028T130000
DTEND;TZID=America/Los_Angeles:20261028T150000
DTSTAMP:20260421T201557
CREATED:20260204T004151Z
LAST-MODIFIED:20260204T004151Z
UID:10016487-1793192400-1793199600@bluezoneshealth.com
SUMMARY:Movie Day
DESCRIPTION:
URL:https://bluezoneshealth.com/event/movie-day/2026-10-28/
LOCATION:East Anaheim Community Center\, 8201 E. Santa Ana Canyon Rd.\, Anaheim Hills\, CA\, 92808\, United States
CATEGORIES:Community Prescriptions
END:VEVENT
BEGIN:VEVENT
DTSTART;TZID=America/Los_Angeles:20261028T150000
DTEND;TZID=America/Los_Angeles:20261028T190000
DTSTAMP:20260421T201557
CREATED:20260204T004427Z
LAST-MODIFIED:20260204T004427Z
UID:10016552-1793199600-1793214000@bluezoneshealth.com
SUMMARY:Jewelry and Glass Decor
DESCRIPTION:
URL:https://bluezoneshealth.com/event/jewelry-and-glass-decor/2026-10-28/
LOCATION:East Anaheim Community Center\, 8201 E. Santa Ana Canyon Rd.\, Anaheim Hills\, CA\, 92808\, United States
CATEGORIES:Community Prescriptions
END:VEVENT
BEGIN:VEVENT
DTSTART;TZID=America/Los_Angeles:20261104T130000
DTEND;TZID=America/Los_Angeles:20261104T150000
DTSTAMP:20260421T201557
CREATED:20260204T004151Z
LAST-MODIFIED:20260204T004151Z
UID:10016488-1793797200-1793804400@bluezoneshealth.com
SUMMARY:Movie Day
DESCRIPTION:
URL:https://bluezoneshealth.com/event/movie-day/2026-11-04/
LOCATION:East Anaheim Community Center\, 8201 E. Santa Ana Canyon Rd.\, Anaheim Hills\, CA\, 92808\, United States
CATEGORIES:Community Prescriptions
END:VEVENT
BEGIN:VEVENT
DTSTART;TZID=America/Los_Angeles:20261104T150000
DTEND;TZID=America/Los_Angeles:20261104T190000
DTSTAMP:20260421T201557
CREATED:20260204T004427Z
LAST-MODIFIED:20260204T004427Z
UID:10016553-1793804400-1793818800@bluezoneshealth.com
SUMMARY:Jewelry and Glass Decor
DESCRIPTION:
URL:https://bluezoneshealth.com/event/jewelry-and-glass-decor/2026-11-04/
LOCATION:East Anaheim Community Center\, 8201 E. Santa Ana Canyon Rd.\, Anaheim Hills\, CA\, 92808\, United States
CATEGORIES:Community Prescriptions
END:VEVENT
BEGIN:VEVENT
DTSTART;TZID=America/Los_Angeles:20261109T100000
DTEND;TZID=America/Los_Angeles:20261109T110000
DTSTAMP:20260421T201557
CREATED:20260114T220613Z
LAST-MODIFIED:20260116T195431Z
UID:10007066-1794218400-1794222000@bluezoneshealth.com
SUMMARY:Chair Yoga at Sycamore Park
DESCRIPTION:A modified form of yoga that uses a chair for support to practice poses while seated or using the chair for stability while standing
URL:https://bluezoneshealth.com/event/chair-yoga-at-sycamore-park-2/2026-11-09/
LOCATION:East Anaheim Community Center\, 8201 E. Santa Ana Canyon Rd.\, Anaheim Hills\, CA\, 92808\, United States
CATEGORIES:Community Prescriptions
END:VEVENT
BEGIN:VEVENT
DTSTART;TZID=America/Los_Angeles:20261111T130000
DTEND;TZID=America/Los_Angeles:20261111T150000
DTSTAMP:20260421T201557
CREATED:20260204T004151Z
LAST-MODIFIED:20260204T004151Z
UID:10016489-1794402000-1794409200@bluezoneshealth.com
SUMMARY:Movie Day
DESCRIPTION:
URL:https://bluezoneshealth.com/event/movie-day/2026-11-11/
LOCATION:East Anaheim Community Center\, 8201 E. Santa Ana Canyon Rd.\, Anaheim Hills\, CA\, 92808\, United States
CATEGORIES:Community Prescriptions
END:VEVENT
END:VCALENDAR