BEGIN:VCALENDAR
VERSION:2.0
PRODID:-//Blue Zones Health - ECPv6.15.20//NONSGML v1.0//EN
CALSCALE:GREGORIAN
METHOD:PUBLISH
X-ORIGINAL-URL:https://bluezoneshealth.com
X-WR-CALDESC:Events for Blue Zones Health
REFRESH-INTERVAL;VALUE=DURATION:PT1H
X-Robots-Tag:noindex
X-PUBLISHED-TTL:PT1H
BEGIN:VTIMEZONE
TZID:America/Los_Angeles
BEGIN:DAYLIGHT
TZOFFSETFROM:-0800
TZOFFSETTO:-0700
TZNAME:PDT
DTSTART:20250309T100000
END:DAYLIGHT
BEGIN:STANDARD
TZOFFSETFROM:-0700
TZOFFSETTO:-0800
TZNAME:PST
DTSTART:20251102T090000
END:STANDARD
BEGIN:DAYLIGHT
TZOFFSETFROM:-0800
TZOFFSETTO:-0700
TZNAME:PDT
DTSTART:20260308T100000
END:DAYLIGHT
BEGIN:STANDARD
TZOFFSETFROM:-0700
TZOFFSETTO:-0800
TZNAME:PST
DTSTART:20261101T090000
END:STANDARD
BEGIN:DAYLIGHT
TZOFFSETFROM:-0800
TZOFFSETTO:-0700
TZNAME:PDT
DTSTART:20270314T100000
END:DAYLIGHT
BEGIN:STANDARD
TZOFFSETFROM:-0700
TZOFFSETTO:-0800
TZNAME:PST
DTSTART:20271107T090000
END:STANDARD
END:VTIMEZONE
BEGIN:VEVENT
DTSTART;TZID=America/Los_Angeles:20260225T130000
DTEND;TZID=America/Los_Angeles:20260225T150000
DTSTAMP:20260421T202652
CREATED:20260204T004151Z
LAST-MODIFIED:20260204T004151Z
UID:10016452-1772024400-1772031600@bluezoneshealth.com
SUMMARY:Movie Day
DESCRIPTION:
URL:https://bluezoneshealth.com/event/movie-day/2026-02-25/
LOCATION:East Anaheim Community Center\, 8201 E. Santa Ana Canyon Rd.\, Anaheim Hills\, CA\, 92808\, United States
CATEGORIES:Community Prescriptions
END:VEVENT
BEGIN:VEVENT
DTSTART;TZID=America/Los_Angeles:20260225T110000
DTEND;TZID=America/Los_Angeles:20260225T123000
DTSTAMP:20260421T202652
CREATED:20251217T011557Z
LAST-MODIFIED:20260129T194013Z
UID:10015799-1772017200-1772022600@bluezoneshealth.com
SUMMARY:Painting Class
DESCRIPTION:
URL:https://bluezoneshealth.com/event/painting-class/2026-02-25/
LOCATION:East Anaheim Community Center\, 8201 E. Santa Ana Canyon Rd.\, Anaheim Hills\, CA\, 92808\, United States
CATEGORIES:Community Prescriptions
END:VEVENT
BEGIN:VEVENT
DTSTART;TZID=America/Los_Angeles:20260225T110000
DTEND;TZID=America/Los_Angeles:20260225T120000
DTSTAMP:20260421T202652
CREATED:20251114T225042Z
LAST-MODIFIED:20260129T195717Z
UID:10015883-1772017200-1772020800@bluezoneshealth.com
SUMMARY:Strength and Stamina
DESCRIPTION:A balanced\, empowering class focused on helping you build resilience. Through a mix of guided activities and supportive instruction\, you’ll explore ways to develop stronger foundations and improve your overall endurance.
URL:https://bluezoneshealth.com/event/strength-and-stamina/2026-02-25/
LOCATION:East Anaheim Community Center\, 8201 E. Santa Ana Canyon Rd.\, Anaheim Hills\, CA\, 92808\, United States
CATEGORIES:Community Prescriptions
END:VEVENT
BEGIN:VEVENT
DTSTART;TZID=America/Los_Angeles:20260224T110000
DTEND;TZID=America/Los_Angeles:20260224T130000
DTSTAMP:20260421T202652
CREATED:20251217T022217Z
LAST-MODIFIED:20260129T194727Z
UID:10015839-1771930800-1771938000@bluezoneshealth.com
SUMMARY:Watercolor Class
DESCRIPTION:
URL:https://bluezoneshealth.com/event/watercolor-class/2026-02-24/
LOCATION:East Anaheim Community Center\, 8201 E. Santa Ana Canyon Rd.\, Anaheim Hills\, CA\, 92808\, United States
CATEGORIES:Community Prescriptions
END:VEVENT
BEGIN:VEVENT
DTSTART;TZID=America/Los_Angeles:20260223T170000
DTEND;TZID=America/Los_Angeles:20260223T190000
DTSTAMP:20260421T202652
CREATED:20251114T205034Z
LAST-MODIFIED:20260129T200707Z
UID:10015971-1771866000-1771873200@bluezoneshealth.com
SUMMARY:Zumba Gold
DESCRIPTION:
URL:https://bluezoneshealth.com/event/zumba-gold/2026-02-23/
LOCATION:East Anaheim Community Center\, 8201 E. Santa Ana Canyon Rd.\, Anaheim Hills\, CA\, 92808\, United States
CATEGORIES:Community Prescriptions
END:VEVENT
BEGIN:VEVENT
DTSTART;TZID=America/Los_Angeles:20260220T123000
DTEND;TZID=America/Los_Angeles:20260220T143000
DTSTAMP:20260421T202652
CREATED:20251114T230754Z
LAST-MODIFIED:20260129T201119Z
UID:10015995-1771590600-1771597800@bluezoneshealth.com
SUMMARY:Needle Craft
DESCRIPTION:
URL:https://bluezoneshealth.com/event/needle-craft/2026-02-20/
LOCATION:East Anaheim Community Center\, 8201 E. Santa Ana Canyon Rd.\, Anaheim Hills\, CA\, 92808\, United States
CATEGORIES:Community Prescriptions
END:VEVENT
BEGIN:VEVENT
DTSTART;TZID=America/Los_Angeles:20260220T110000
DTEND;TZID=America/Los_Angeles:20260220T120000
DTSTAMP:20260421T202652
CREATED:20251114T225042Z
LAST-MODIFIED:20260129T195717Z
UID:10015882-1771585200-1771588800@bluezoneshealth.com
SUMMARY:Strength and Stamina
DESCRIPTION:A balanced\, empowering class focused on helping you build resilience. Through a mix of guided activities and supportive instruction\, you’ll explore ways to develop stronger foundations and improve your overall endurance.
URL:https://bluezoneshealth.com/event/strength-and-stamina/2026-02-20/
LOCATION:East Anaheim Community Center\, 8201 E. Santa Ana Canyon Rd.\, Anaheim Hills\, CA\, 92808\, United States
CATEGORIES:Community Prescriptions
END:VEVENT
BEGIN:VEVENT
DTSTART;TZID=America/Los_Angeles:20260219T170000
DTEND;TZID=America/Los_Angeles:20260219T190000
DTSTAMP:20260421T202652
CREATED:20251114T205034Z
LAST-MODIFIED:20260129T200707Z
UID:10015970-1771520400-1771527600@bluezoneshealth.com
SUMMARY:Zumba Gold
DESCRIPTION:
URL:https://bluezoneshealth.com/event/zumba-gold/2026-02-19/
LOCATION:East Anaheim Community Center\, 8201 E. Santa Ana Canyon Rd.\, Anaheim Hills\, CA\, 92808\, United States
CATEGORIES:Community Prescriptions
END:VEVENT
BEGIN:VEVENT
DTSTART;TZID=America/Los_Angeles:20260219T140000
DTEND;TZID=America/Los_Angeles:20260219T160000
DTSTAMP:20260421T202652
CREATED:20251114T230424Z
LAST-MODIFIED:20260129T195404Z
UID:10015863-1771509600-1771516800@bluezoneshealth.com
SUMMARY:Rhythm\, Movement\, and Exercise
DESCRIPTION:You’ll explore coordination\, balance\, and flexibility through rhythmic activities designed for all ages and levels. A fun\, inclusive way to stay active\, connect with your body\, and enjoy the power of movement.
URL:https://bluezoneshealth.com/event/rhythm-movement-and-exercise/2026-02-19/
LOCATION:East Anaheim Community Center\, 8201 E. Santa Ana Canyon Rd.\, Anaheim Hills\, CA\, 92808\, United States
CATEGORIES:Community Prescriptions
END:VEVENT
BEGIN:VEVENT
DTSTART;TZID=America/Los_Angeles:20260219T113000
DTEND;TZID=America/Los_Angeles:20260219T133000
DTSTAMP:20260421T202652
CREATED:20251114T225630Z
LAST-MODIFIED:20260129T195540Z
UID:10015871-1771500600-1771507800@bluezoneshealth.com
SUMMARY:Brain Games
DESCRIPTION:A fun\, engaging class designed to keep your mind sharp. Through puzzles\, memory challenges\, creative thinking activities\, and interactive group exercises\, you’ll strengthen cognitive skills while having a great time.
URL:https://bluezoneshealth.com/event/brain-games/2026-02-19/
LOCATION:East Anaheim Community Center\, 8201 E. Santa Ana Canyon Rd.\, Anaheim Hills\, CA\, 92808\, United States
CATEGORIES:Community Prescriptions
END:VEVENT
BEGIN:VEVENT
DTSTART;TZID=America/Los_Angeles:20260218T150000
DTEND;TZID=America/Los_Angeles:20260218T190000
DTSTAMP:20260421T202652
CREATED:20260204T004427Z
LAST-MODIFIED:20260204T004427Z
UID:10016516-1771426800-1771441200@bluezoneshealth.com
SUMMARY:Jewelry and Glass Decor
DESCRIPTION:
URL:https://bluezoneshealth.com/event/jewelry-and-glass-decor/2026-02-18/
LOCATION:East Anaheim Community Center\, 8201 E. Santa Ana Canyon Rd.\, Anaheim Hills\, CA\, 92808\, United States
CATEGORIES:Community Prescriptions
END:VEVENT
BEGIN:VEVENT
DTSTART;TZID=America/Los_Angeles:20260218T130000
DTEND;TZID=America/Los_Angeles:20260218T150000
DTSTAMP:20260421T202652
CREATED:20260204T004151Z
LAST-MODIFIED:20260204T004151Z
UID:10016451-1771419600-1771426800@bluezoneshealth.com
SUMMARY:Movie Day
DESCRIPTION:
URL:https://bluezoneshealth.com/event/movie-day/2026-02-18/
LOCATION:East Anaheim Community Center\, 8201 E. Santa Ana Canyon Rd.\, Anaheim Hills\, CA\, 92808\, United States
CATEGORIES:Community Prescriptions
END:VEVENT
BEGIN:VEVENT
DTSTART;TZID=America/Los_Angeles:20260218T110000
DTEND;TZID=America/Los_Angeles:20260218T123000
DTSTAMP:20260421T202652
CREATED:20251217T011557Z
LAST-MODIFIED:20260129T194013Z
UID:10015798-1771412400-1771417800@bluezoneshealth.com
SUMMARY:Painting Class
DESCRIPTION:
URL:https://bluezoneshealth.com/event/painting-class/2026-02-18/
LOCATION:East Anaheim Community Center\, 8201 E. Santa Ana Canyon Rd.\, Anaheim Hills\, CA\, 92808\, United States
CATEGORIES:Community Prescriptions
END:VEVENT
BEGIN:VEVENT
DTSTART;TZID=America/Los_Angeles:20260218T110000
DTEND;TZID=America/Los_Angeles:20260218T120000
DTSTAMP:20260421T202652
CREATED:20251114T225042Z
LAST-MODIFIED:20260129T195717Z
UID:10015881-1771412400-1771416000@bluezoneshealth.com
SUMMARY:Strength and Stamina
DESCRIPTION:A balanced\, empowering class focused on helping you build resilience. Through a mix of guided activities and supportive instruction\, you’ll explore ways to develop stronger foundations and improve your overall endurance.
URL:https://bluezoneshealth.com/event/strength-and-stamina/2026-02-18/
LOCATION:East Anaheim Community Center\, 8201 E. Santa Ana Canyon Rd.\, Anaheim Hills\, CA\, 92808\, United States
CATEGORIES:Community Prescriptions
END:VEVENT
BEGIN:VEVENT
DTSTART;TZID=America/Los_Angeles:20260217T110000
DTEND;TZID=America/Los_Angeles:20260217T143000
DTSTAMP:20260421T202652
CREATED:20251114T224124Z
LAST-MODIFIED:20260116T195217Z
UID:10015699-1771326000-1771338600@bluezoneshealth.com
SUMMARY:Mixed Media Art Group
DESCRIPTION:A creative\, hands-on workshop where you get to explore a variety of materials and techniques to bring your ideas to life.
URL:https://bluezoneshealth.com/event/mixed-media-art-group/2026-02-17/
LOCATION:East Anaheim Community Center\, 8201 E. Santa Ana Canyon Rd.\, Anaheim Hills\, CA\, 92808\, United States
CATEGORIES:Community Prescriptions
END:VEVENT
BEGIN:VEVENT
DTSTART;TZID=America/Los_Angeles:20260217T110000
DTEND;TZID=America/Los_Angeles:20260217T130000
DTSTAMP:20260421T202652
CREATED:20251217T022217Z
LAST-MODIFIED:20260129T194727Z
UID:10015838-1771326000-1771333200@bluezoneshealth.com
SUMMARY:Watercolor Class
DESCRIPTION:
URL:https://bluezoneshealth.com/event/watercolor-class/2026-02-17/
LOCATION:East Anaheim Community Center\, 8201 E. Santa Ana Canyon Rd.\, Anaheim Hills\, CA\, 92808\, United States
CATEGORIES:Community Prescriptions
END:VEVENT
BEGIN:VEVENT
DTSTART;TZID=America/Los_Angeles:20260216T170000
DTEND;TZID=America/Los_Angeles:20260216T190000
DTSTAMP:20260421T202652
CREATED:20251114T205034Z
LAST-MODIFIED:20260129T200707Z
UID:10015969-1771261200-1771268400@bluezoneshealth.com
SUMMARY:Zumba Gold
DESCRIPTION:
URL:https://bluezoneshealth.com/event/zumba-gold/2026-02-16/
LOCATION:East Anaheim Community Center\, 8201 E. Santa Ana Canyon Rd.\, Anaheim Hills\, CA\, 92808\, United States
CATEGORIES:Community Prescriptions
END:VEVENT
BEGIN:VEVENT
DTSTART;TZID=America/Los_Angeles:20260213T123000
DTEND;TZID=America/Los_Angeles:20260213T143000
DTSTAMP:20260421T202652
CREATED:20251114T230754Z
LAST-MODIFIED:20260129T201119Z
UID:10015994-1770985800-1770993000@bluezoneshealth.com
SUMMARY:Needle Craft
DESCRIPTION:
URL:https://bluezoneshealth.com/event/needle-craft/2026-02-13/
LOCATION:East Anaheim Community Center\, 8201 E. Santa Ana Canyon Rd.\, Anaheim Hills\, CA\, 92808\, United States
CATEGORIES:Community Prescriptions
END:VEVENT
BEGIN:VEVENT
DTSTART;TZID=America/Los_Angeles:20260213T110000
DTEND;TZID=America/Los_Angeles:20260213T120000
DTSTAMP:20260421T202652
CREATED:20251114T225042Z
LAST-MODIFIED:20260129T195717Z
UID:10015880-1770980400-1770984000@bluezoneshealth.com
SUMMARY:Strength and Stamina
DESCRIPTION:A balanced\, empowering class focused on helping you build resilience. Through a mix of guided activities and supportive instruction\, you’ll explore ways to develop stronger foundations and improve your overall endurance.
URL:https://bluezoneshealth.com/event/strength-and-stamina/2026-02-13/
LOCATION:East Anaheim Community Center\, 8201 E. Santa Ana Canyon Rd.\, Anaheim Hills\, CA\, 92808\, United States
CATEGORIES:Community Prescriptions
END:VEVENT
BEGIN:VEVENT
DTSTART;TZID=America/Los_Angeles:20260212T170000
DTEND;TZID=America/Los_Angeles:20260212T190000
DTSTAMP:20260421T202652
CREATED:20251114T205034Z
LAST-MODIFIED:20260129T200707Z
UID:10015968-1770915600-1770922800@bluezoneshealth.com
SUMMARY:Zumba Gold
DESCRIPTION:
URL:https://bluezoneshealth.com/event/zumba-gold/2026-02-12/
LOCATION:East Anaheim Community Center\, 8201 E. Santa Ana Canyon Rd.\, Anaheim Hills\, CA\, 92808\, United States
CATEGORIES:Community Prescriptions
END:VEVENT
BEGIN:VEVENT
DTSTART;TZID=America/Los_Angeles:20260212T140000
DTEND;TZID=America/Los_Angeles:20260212T160000
DTSTAMP:20260421T202652
CREATED:20251114T230424Z
LAST-MODIFIED:20260129T195404Z
UID:10015862-1770904800-1770912000@bluezoneshealth.com
SUMMARY:Rhythm\, Movement\, and Exercise
DESCRIPTION:You’ll explore coordination\, balance\, and flexibility through rhythmic activities designed for all ages and levels. A fun\, inclusive way to stay active\, connect with your body\, and enjoy the power of movement.
URL:https://bluezoneshealth.com/event/rhythm-movement-and-exercise/2026-02-12/
LOCATION:East Anaheim Community Center\, 8201 E. Santa Ana Canyon Rd.\, Anaheim Hills\, CA\, 92808\, United States
CATEGORIES:Community Prescriptions
END:VEVENT
BEGIN:VEVENT
DTSTART;TZID=America/Los_Angeles:20260212T113000
DTEND;TZID=America/Los_Angeles:20260212T133000
DTSTAMP:20260421T202652
CREATED:20251114T225630Z
LAST-MODIFIED:20260129T195540Z
UID:10015870-1770895800-1770903000@bluezoneshealth.com
SUMMARY:Brain Games
DESCRIPTION:A fun\, engaging class designed to keep your mind sharp. Through puzzles\, memory challenges\, creative thinking activities\, and interactive group exercises\, you’ll strengthen cognitive skills while having a great time.
URL:https://bluezoneshealth.com/event/brain-games/2026-02-12/
LOCATION:East Anaheim Community Center\, 8201 E. Santa Ana Canyon Rd.\, Anaheim Hills\, CA\, 92808\, United States
CATEGORIES:Community Prescriptions
END:VEVENT
BEGIN:VEVENT
DTSTART;TZID=America/Los_Angeles:20260211T150000
DTEND;TZID=America/Los_Angeles:20260211T190000
DTSTAMP:20260421T202652
CREATED:20260204T004427Z
LAST-MODIFIED:20260204T004427Z
UID:10016515-1770822000-1770836400@bluezoneshealth.com
SUMMARY:Jewelry and Glass Decor
DESCRIPTION:
URL:https://bluezoneshealth.com/event/jewelry-and-glass-decor/2026-02-11/
LOCATION:East Anaheim Community Center\, 8201 E. Santa Ana Canyon Rd.\, Anaheim Hills\, CA\, 92808\, United States
CATEGORIES:Community Prescriptions
END:VEVENT
BEGIN:VEVENT
DTSTART;TZID=America/Los_Angeles:20260211T130000
DTEND;TZID=America/Los_Angeles:20260211T150000
DTSTAMP:20260421T202652
CREATED:20260204T004151Z
LAST-MODIFIED:20260204T004151Z
UID:10016450-1770814800-1770822000@bluezoneshealth.com
SUMMARY:Movie Day
DESCRIPTION:
URL:https://bluezoneshealth.com/event/movie-day/2026-02-11/
LOCATION:East Anaheim Community Center\, 8201 E. Santa Ana Canyon Rd.\, Anaheim Hills\, CA\, 92808\, United States
CATEGORIES:Community Prescriptions
END:VEVENT
BEGIN:VEVENT
DTSTART;TZID=America/Los_Angeles:20260211T110000
DTEND;TZID=America/Los_Angeles:20260211T123000
DTSTAMP:20260421T202652
CREATED:20251217T011557Z
LAST-MODIFIED:20260129T194013Z
UID:10015797-1770807600-1770813000@bluezoneshealth.com
SUMMARY:Painting Class
DESCRIPTION:
URL:https://bluezoneshealth.com/event/painting-class/2026-02-11/
LOCATION:East Anaheim Community Center\, 8201 E. Santa Ana Canyon Rd.\, Anaheim Hills\, CA\, 92808\, United States
CATEGORIES:Community Prescriptions
END:VEVENT
BEGIN:VEVENT
DTSTART;TZID=America/Los_Angeles:20260211T110000
DTEND;TZID=America/Los_Angeles:20260211T120000
DTSTAMP:20260421T202652
CREATED:20251114T225042Z
LAST-MODIFIED:20260129T195717Z
UID:10015879-1770807600-1770811200@bluezoneshealth.com
SUMMARY:Strength and Stamina
DESCRIPTION:A balanced\, empowering class focused on helping you build resilience. Through a mix of guided activities and supportive instruction\, you’ll explore ways to develop stronger foundations and improve your overall endurance.
URL:https://bluezoneshealth.com/event/strength-and-stamina/2026-02-11/
LOCATION:East Anaheim Community Center\, 8201 E. Santa Ana Canyon Rd.\, Anaheim Hills\, CA\, 92808\, United States
CATEGORIES:Community Prescriptions
END:VEVENT
BEGIN:VEVENT
DTSTART;TZID=America/Los_Angeles:20260210T110000
DTEND;TZID=America/Los_Angeles:20260210T130000
DTSTAMP:20260421T202652
CREATED:20251217T022217Z
LAST-MODIFIED:20260129T194727Z
UID:10015837-1770721200-1770728400@bluezoneshealth.com
SUMMARY:Watercolor Class
DESCRIPTION:
URL:https://bluezoneshealth.com/event/watercolor-class/2026-02-10/
LOCATION:East Anaheim Community Center\, 8201 E. Santa Ana Canyon Rd.\, Anaheim Hills\, CA\, 92808\, United States
CATEGORIES:Community Prescriptions
END:VEVENT
BEGIN:VEVENT
DTSTART;TZID=America/Los_Angeles:20260209T170000
DTEND;TZID=America/Los_Angeles:20260209T190000
DTSTAMP:20260421T202652
CREATED:20251114T205034Z
LAST-MODIFIED:20260129T200707Z
UID:10015967-1770656400-1770663600@bluezoneshealth.com
SUMMARY:Zumba Gold
DESCRIPTION:
URL:https://bluezoneshealth.com/event/zumba-gold/2026-02-09/
LOCATION:East Anaheim Community Center\, 8201 E. Santa Ana Canyon Rd.\, Anaheim Hills\, CA\, 92808\, United States
CATEGORIES:Community Prescriptions
END:VEVENT
BEGIN:VEVENT
DTSTART;TZID=America/Los_Angeles:20260209T100000
DTEND;TZID=America/Los_Angeles:20260209T110000
DTSTAMP:20260421T202653
CREATED:20260114T220613Z
LAST-MODIFIED:20260116T195431Z
UID:10007027-1770631200-1770634800@bluezoneshealth.com
SUMMARY:Chair Yoga at Sycamore Park
DESCRIPTION:A modified form of yoga that uses a chair for support to practice poses while seated or using the chair for stability while standing
URL:https://bluezoneshealth.com/event/chair-yoga-at-sycamore-park-2/2026-02-09/
LOCATION:East Anaheim Community Center\, 8201 E. Santa Ana Canyon Rd.\, Anaheim Hills\, CA\, 92808\, United States
CATEGORIES:Community Prescriptions
END:VEVENT
BEGIN:VEVENT
DTSTART;TZID=America/Los_Angeles:20260206T123000
DTEND;TZID=America/Los_Angeles:20260206T143000
DTSTAMP:20260421T202653
CREATED:20251114T230754Z
LAST-MODIFIED:20260129T201119Z
UID:10015993-1770381000-1770388200@bluezoneshealth.com
SUMMARY:Needle Craft
DESCRIPTION:
URL:https://bluezoneshealth.com/event/needle-craft/2026-02-06/
LOCATION:East Anaheim Community Center\, 8201 E. Santa Ana Canyon Rd.\, Anaheim Hills\, CA\, 92808\, United States
CATEGORIES:Community Prescriptions
END:VEVENT
END:VCALENDAR